BEGIN:VCALENDAR
VERSION:2.0
PRODID:-//Kate&#039;s Furreka Rescue - ECPv6.15.20//NONSGML v1.0//EN
CALSCALE:GREGORIAN
METHOD:PUBLISH
X-ORIGINAL-URL:https://kfrescue.com
X-WR-CALDESC:Events for Kate&#039;s Furreka Rescue
REFRESH-INTERVAL;VALUE=DURATION:PT1H
X-Robots-Tag:noindex
X-PUBLISHED-TTL:PT1H
BEGIN:VTIMEZONE
TZID:America/Los_Angeles
BEGIN:DAYLIGHT
TZOFFSETFROM:-0800
TZOFFSETTO:-0700
TZNAME:PDT
DTSTART:20220313T100000
END:DAYLIGHT
BEGIN:STANDARD
TZOFFSETFROM:-0700
TZOFFSETTO:-0800
TZNAME:PST
DTSTART:20221106T090000
END:STANDARD
BEGIN:DAYLIGHT
TZOFFSETFROM:-0800
TZOFFSETTO:-0700
TZNAME:PDT
DTSTART:20230312T100000
END:DAYLIGHT
BEGIN:STANDARD
TZOFFSETFROM:-0700
TZOFFSETTO:-0800
TZNAME:PST
DTSTART:20231105T090000
END:STANDARD
BEGIN:DAYLIGHT
TZOFFSETFROM:-0800
TZOFFSETTO:-0700
TZNAME:PDT
DTSTART:20240310T100000
END:DAYLIGHT
BEGIN:STANDARD
TZOFFSETFROM:-0700
TZOFFSETTO:-0800
TZNAME:PST
DTSTART:20241103T090000
END:STANDARD
END:VTIMEZONE
BEGIN:VEVENT
DTSTART;TZID=America/Los_Angeles:20230617T110000
DTEND;TZID=America/Los_Angeles:20230617T140000
DTSTAMP:20260421T195204
CREATED:20230603T232328Z
LAST-MODIFIED:20230603T233034Z
UID:10000001-1686999600-1687010400@kfrescue.com
SUMMARY:Adoption Event: Turlock Ace Hardware
DESCRIPTION:Kate’s will be hosting an adoption event this Saturday at Ace Hardware in Turlock\, CA. \nWe will have a number of large and small breed canines\, all looking for homes. \nAdoptions can be done on-site. Fees range from $200-$300\, depending on the animal. All adoptions include the animal’s spay/neuter\, microchip\, and shots up to date of adoption. \nCome on down and see if your furry family member is waiting for you.
URL:https://kfrescue.com/event/adoption-event-turlock-ace-hardware/
LOCATION:Turlock Ace Hardware\, 3051 Geer Rd.\, Turlock\, CA\, 95382\, United States
CATEGORIES:Adoption Event
ATTACH;FMTTYPE=image/jpeg:https://kfrescue.com/wp-content/uploads/2023/06/ace_turlock_calendar.jpg
END:VEVENT
END:VCALENDAR